BEGIN:VCALENDAR
VERSION:2.0
PRODID:icalendar-ruby
CALSCALE:GREGORIAN
METHOD:PUBLISH
BEGIN:VEVENT
DTSTAMP:20181221T031157Z
UID:http://www.oneagencywhangarei.co.nz/property?property_id=286884
DTSTART:20181014T110000
DTEND:20181014T113000
CLASS:PUBLIC
CREATED:20180925T091559
DESCRIPTION: 
LAST-MODIFIED:20181215T201212
LOCATION:210 Pukeatua Road\, MAUNGATAPERE\, WHANGAREI\, NORTHLAND\, New Zea
 land
SUMMARY:210 Pukeatua Road\,  Auction
URL:http://www.oneagencywhangarei.co.nz/property?property_id=286884
END:VEVENT
END:VCALENDAR
