BEGIN:VCALENDAR
VERSION:2.0
PRODID:icalendar-ruby
CALSCALE:GREGORIAN
METHOD:PUBLISH
BEGIN:VEVENT
DTSTAMP:20181221T031242Z
UID:http://www.oneagencywhangarei.co.nz/property?property_id=286880
DTSTART:20180708T110000
DTEND:20180708T113000
CLASS:PUBLIC
CREATED:20180925T091557
DESCRIPTION: 
LAST-MODIFIED:20181215T201211
LOCATION:51 Suester Road\, POROTI\, WHANGAREI\, NORTHLAND\, New Zealand
SUMMARY:51 Suester Road\,  Auction
URL:http://www.oneagencywhangarei.co.nz/property?property_id=286880
END:VEVENT
END:VCALENDAR
