BEGIN:VCALENDAR
VERSION:2.0
PRODID:icalendar-ruby
CALSCALE:GREGORIAN
METHOD:PUBLISH
BEGIN:VEVENT
DTSTAMP:20181221T031239Z
UID:http://www.oneagencywhangarei.co.nz/property?property_id=286876
DTSTART:20180721T090000
DTEND:20180721T093000
CLASS:PUBLIC
CREATED:20180925T091554
DESCRIPTION: 
LAST-MODIFIED:20181025T132058
LOCATION:28 Grant Street\, KAMO\, WHANGAREI\, NORTHLAND\, New Zealand
SUMMARY:28 Grant Street\,  Auction
URL:http://www.oneagencywhangarei.co.nz/property?property_id=286876
END:VEVENT
END:VCALENDAR
