BEGIN:VCALENDAR
VERSION:2.0
PRODID:icalendar-ruby
CALSCALE:GREGORIAN
METHOD:PUBLISH
BEGIN:VEVENT
DTSTAMP:20181221T031230Z
UID:http://www.oneagencywhangarei.co.nz/property?property_id=286875
DTSTART:20180721T090000
DTEND:20180721T093000
CLASS:PUBLIC
CREATED:20180925T071554
DESCRIPTION: 
LAST-MODIFIED:20181025T102042
LOCATION:27 Sherwood Road\, ONERAHI\, WHANGAREI\, NORTHLAND\, New Zealand
SUMMARY:27 Sherwood Road\,  Auction
URL:http://www.oneagencywhangarei.co.nz/property?property_id=286875
END:VEVENT
END:VCALENDAR
