BEGIN:VCALENDAR
VERSION:2.0
PRODID:icalendar-ruby
CALSCALE:GREGORIAN
METHOD:PUBLISH
BEGIN:VEVENT
DTSTAMP:20181221T201029Z
UID:http://www.oneagencywhangarei.co.nz/property?property_id=286864
DTSTART:20180415T110000
DTEND:20180415T113000
CLASS:PUBLIC
CREATED:20180925T091548
DESCRIPTION: 
LAST-MODIFIED:20181025T122057
LOCATION:19A Mair St\, KENSINGTON\, WHANGAREI\, NORTHLAND\, New Zealand
SUMMARY:19A Mair St\,  Auction
URL:http://www.oneagencywhangarei.co.nz/property?property_id=286864
END:VEVENT
END:VCALENDAR
